BEGIN:VCALENDAR
VERSION:2.0
PRODID:-//GANZ - ECPv4.9.13//NONSGML v1.0//EN
CALSCALE:GREGORIAN
METHOD:PUBLISH
X-WR-CALNAME:GANZ
X-ORIGINAL-URL:https://www.ganz.org.au
X-WR-CALDESC:Events for GANZ
BEGIN:VTIMEZONE
TZID:Australia/Melbourne
BEGIN:STANDARD
TZOFFSETFROM:+1100
TZOFFSETTO:+1000
TZNAME:AEST
DTSTART:20200404T160000
END:STANDARD
BEGIN:DAYLIGHT
TZOFFSETFROM:+1000
TZOFFSETTO:+1100
TZNAME:AEDT
DTSTART:20201003T160000
END:DAYLIGHT
END:VTIMEZONE
BEGIN:VEVENT
DTSTART;TZID=Australia/Melbourne:20200220T080000
DTEND;TZID=Australia/Melbourne:20200227T190000
DTSTAMP:20200228T075525
CREATED:20200116T054215Z
LAST-MODIFIED:20200116T054215Z
UID:9469-1582185600-1582830000@www.ganz.org.au
SUMMARY:Online Course: Disarming the Narcissist
DESCRIPTION:\n\n\nAs you likely know\, the narcissistic personality is one of the most difficult personalities to work with.\nThese individuals probably show up in your office from time to time\, as do their family members. The self-absorbed\, controlling\, and sometimes abusive behaviours that these individuals exhibit can \noverwhelm and disorient you in no time at all. \nHere’s what you’ll learn in this online course: \n\n	 A deep understanding of the narcissistic personality\, it’s origins\, and effects on others\n	Why a solid understanding of narcissism is key to helping people with narcissistic characteristics\n	An awareness of how societal influences are spreading the rise of narcissism\n	Learn the #1 skill that’s essential to being successful when working with the narcissistic personality\n	Key ways to stay grounded when these self-absorbed individuals criticize\, manipulate\, or bully you\n	Tips on co-parenting with a spouse who has a narcissistic personality and providing therapy to the co-parent\n	Effective ways to deal with a partner of a narcissistic person and warning signs when dating\n	How to do couples therapy when one of the partners has narcissistic traits\n\nThe content for this online course is as follows: \n\n	Module 1 – What to do When Triggered by the Narcissistic Personality\n	Module 2 – Origins of Narcissism\n	Module 3 – The Narcissistic Personality in Intimate \nRelationships\n	Module 4 – Obstacles in Treating Narcissism\n	Module 5 – Meeting the Core Needs of the Narcissist \nPersonality\n	Module 6 – Essential Treatment Element: Empathy\n	Module 7 – Modes in Narcissism\n	 Module 8 – Breaking Free and Fortifying a Sturdy Self\n	Module 9 – Use of Photos and Audio Recordings in Clinical Work\n	Module 10 – Goals of Therapy for Narcissism\n	Module 11: Integrated Strategies\n	Module 12 – How to Deal with Bullying and Other Critical Narcissistic Modes\n	Module 13- Couples Therapy When One Partner Has a Narcissistic Personality\n	One live Q&A Webinar with Wendy Behary\n\nTherapist Wendy Behary has mastered a way of working with this population and their family members. Her ability to be effective with these people and not be thrown off guard is impressive. \nIf you want to learn some of the fantastic ways Wendy works with this population\, their partners\, couples\, and other family members\, register for this online course. \nThis online course has videos\, audios\, and transcripts of all sessions. It also has worksheets and other bonus materials. \n\n\n\n\n\n \n\n\nShare this:Click to share on Twitter (Opens in new window)Click to share on Facebook (Opens in new window)Like this:Like Loading...\n\n	Related\n
URL:https://www.ganz.org.au/event/online-course-disarming-the-narcissist/
LOCATION:Online Event\, Australia
ORGANIZER;CN="Clinton%20Power":MAILTO:info@mindbodytraininginstitute.com
END:VEVENT
END:VCALENDAR