BEGIN:VCALENDAR
VERSION:2.0
PRODID:-//GANZ - ECPv4.9.13//NONSGML v1.0//EN
CALSCALE:GREGORIAN
METHOD:PUBLISH
X-WR-CALNAME:GANZ
X-ORIGINAL-URL:https://www.ganz.org.au
X-WR-CALDESC:Events for GANZ
BEGIN:VTIMEZONE
TZID:Australia/Melbourne
BEGIN:STANDARD
TZOFFSETFROM:+1100
TZOFFSETTO:+1000
TZNAME:AEST
DTSTART:20200404T160000
END:STANDARD
BEGIN:DAYLIGHT
TZOFFSETFROM:+1000
TZOFFSETTO:+1100
TZNAME:AEDT
DTSTART:20201003T160000
END:DAYLIGHT
END:VTIMEZONE
BEGIN:VEVENT
DTSTART;TZID=Australia/Melbourne:20200211T060000
DTEND;TZID=Australia/Melbourne:20200219T190000
DTSTAMP:20200229T235512
CREATED:20200115T024924Z
LAST-MODIFIED:20200115T024924Z
UID:9433-1581400800-1582138800@www.ganz.org.au
SUMMARY:FREE TRAINING: How to Work With the Narcissistic Personality
DESCRIPTION:\n\n\nAs you likely know\, the narcissistic personality is one of the most difficult personalities to work with. \nThese individuals probably show up in your office from time to time\, as do their family members. The self-absorbed\, controlling\, and sometimes abusive behaviours that these individuals exhibit can overwhelm and disorient you in no time at all. \n\nTherapist Wendy Behary has mastered a way of working with this population and their family members. Her ability to be effective with these people and not be thrown off guard is impressive. \nHere’s what you’ll learn in this complimentary training: \n\n	An understanding of the narcissism spectrum\n	How narcissism differs from other personality disorders\n	The #1 factor that’s required for this population to change\n	Key obstacles that prevent those with narcissistic personalities from giving up their self-absorbed behaviours\n	How to work with a client with narcissistic traits\n\nIf you want to learn some of the amazing ways Wendy works with this population\, their partners\, and other family members\, register for this no-charge training. \nCheck it out here. It’s free after all.\n\n \nThis free training is only available from Tuesday\, 11 February until Wednesday\, 19 February\, 2020 at 7pm AEDT\, so sign up now if you’re interested. \n\n\n\n\n\n \n\n\n
URL:https://www.ganz.org.au/event/free-training-how-to-work-with-the-narcissistic-personality/
LOCATION:Online Event\, Australia
ATTACH;FMTTYPE=image/png:https://www.ganz.org.au/wp-content/uploads/2020/01/Wendy-course.png
ORGANIZER;CN="Clinton%20Power":MAILTO:info@mindbodytraininginstitute.com
END:VEVENT
BEGIN:VEVENT
DTSTART;TZID=Australia/Melbourne:20200212T000000
DTEND;TZID=Australia/Melbourne:20200212T235959
DTSTAMP:20200229T235512
CREATED:20200212T104011Z
LAST-MODIFIED:20200212T104011Z
UID:9606-1581465600-1581551999@www.ganz.org.au
SUMMARY:Embodied Presence (Part 1)
DESCRIPTION:\n\n\nThis workshop is in two parts\, over four days and will introduce the important role of embodied presence both for living and for being a therapist. \nThis workshop emphasises and deepens embodied experience as a primary way of knowing. Participants will be supported to attune and attend to their body process\, becoming more sensitive to their own body’s structures\, shapes\, rhythms and textures. \n\n\n\n\n\n \n\n\n
URL:https://www.ganz.org.au/event/embodied-presence-part-1/
LOCATION:Gestalt Therapy Brisbane\, 431 Montague Road\, West End\, QLD\, 4101\, Australia
CATEGORIES:Queensland,Workshop
ATTACH;FMTTYPE=image/jpeg:https://www.ganz.org.au/wp-content/uploads/2020/02/embodied_presence.jpg
ORGANIZER;CN="Gestalt%20Therapy%20Brisbane":MAILTO:contact@gestalttherapybrisbane.qld.edu.au
END:VEVENT
END:VCALENDAR