BEGIN:VCALENDAR
VERSION:2.0
PRODID:-//GANZ - ECPv4.9.13//NONSGML v1.0//EN
CALSCALE:GREGORIAN
METHOD:PUBLISH
X-WR-CALNAME:GANZ
X-ORIGINAL-URL:https://www.ganz.org.au
X-WR-CALDESC:Events for GANZ
BEGIN:VTIMEZONE
TZID:Australia/Melbourne
BEGIN:STANDARD
TZOFFSETFROM:+1100
TZOFFSETTO:+1000
TZNAME:AEST
DTSTART:20200404T160000
END:STANDARD
BEGIN:DAYLIGHT
TZOFFSETFROM:+1000
TZOFFSETTO:+1100
TZNAME:AEDT
DTSTART:20201003T160000
END:DAYLIGHT
END:VTIMEZONE
BEGIN:VEVENT
DTSTART;TZID=Australia/Melbourne:20200228T200000
DTEND;TZID=Australia/Melbourne:20200228T220000
DTSTAMP:20200226T184241
CREATED:20200210T084806Z
LAST-MODIFIED:20200212T104714Z
UID:9588-1582920000-1582927200@www.ganz.org.au
SUMMARY:Gestalt & Social Change Webinar
DESCRIPTION:\n\n\nGestalt and social change webinar\n\n\nThis webinar aims to combine emotional and social-political awareness by applying Gestalt therapy and Gestalt awareness practice. I created this training from my need and inspiration that activism and the desire for a peaceful world are possible and that gestalt and its principles of no-judgment\, no-interpretation and personal exchange combined with the practice of awareness in here and now in its full spectrum; environment-body-mind\, can bring social change towards a respectful\, full-present and peaceful living among all beings of this planet.\n\nThis webinar is for you if;\n– You are aware of the unfair societies we live in\n– You want to live in a respectful society\n– You are tired of reading sad news and doing nothing\n– You had enough wanting to act and didn’t know how\n– You want to learn how to create a fair\, peaceful world\n– You want to learn to practice a way of being that allows you to love and respect yourself deeply\n– You live far away from me and you interested in my teaching\n– You live in the same area with me (Athens\, Greece) but you are busy to spend time in transportation\n\nYES WE CAN CHANGE THIS WORLD AND MAKE IT A BETTER PLACE FOR US\, OUR CHILDREN AND ALL THE BEINGS! \n\nTools we will use:\n\n*Crucial topics\n\n*Gestalt theory\n\n*Gestalt principles\n\n*Socio-political phenomenology\n\n*Gestalt awareness practice \n\n*Open Chair work\n\n*Art therapy\n\n*Sharing awareness in the group\n\n\nWhen: 1 session per month\, every last Friday (or two Fridays / month; group decision)\n\nStarting date: 28 of February\, 17.00 eet\n\nDuration : 2 hours per session \n\nMax. participants per session: 5\n\nSuggested price: 50 euro/per group session \nInscriptions; till 25/02\nAlternative; Can be done privately as well \nEarly bird offer till 20/2 ; 550euros \n\nFor Whom: Gestalt therapists and students\, as well anyone interested to explore social change under the guidance of Gestalt therapy.\nNote: If you miss a session you can get the session recorded or replace it with a private session with a symbolic extra payment.\n\n13 Crucial Topics that will be explored through theory and personal experience:\n\n*In every session we start with an awareness check-in and we close with an awareness check-out*\n\n1st: -Gestalt therapy and social change theory.\n\n-What is social change for each of us?\n\n2nd: How does each of us want to see social change in the world? \n\n3rd: What do we want to change in this world?\n\n4th: What does power stand for in our world and how does each of us experience it?\n\n5th: What does money stand for in our societies and what relationship is each of us having with it?\n\n6th: What is solidarity as a practice on our global planet\, in everyday life and what is our personal experience with it?\n\n7th: What is trust as a feeling and practice in our everyday lives? \n\n8th: How is commitment an experience that we offer and receive in this world?\n\n9th: How is freedom as a feeling\, a choice\, and a state of being for each person?\n\n10th: What is love towards oneself and others according to each one’s experience?\n\n11th: How do we experience respect in our everyday life?\n\n12th: What is a community according to each person’s experience?\n\n13th: What is self-organization at the personal and group level?\n\n\nCONTACT FOR REGISTRATION AND QUESTIONS: Maira Danni \n\n\nWhatsApp: 00306979041472\n\nemail: peaceloveyunity@gmail.com\n\nwebsite: http://www.gestalt-awareness.com/en/\n\nfacebook; https://www.facebook.com/gestaltmaira/\n\n\n\nShort biography: I am an international Law\, Relationship and Economy Expert\, a grass-root activist\, Gestalt Therapist and Clinical Sexologist . Because of containing all these studies and experiences combined\, I have managed to canalize Gestalt therapy in my passion for Social Change\, towards a respectful co-existence on this planet. The planet and most of its beings are suffering\, join me if you want to act on it! I am practising Gestalt and Social change Trainings the last 4 years\, i also apply this in private sessions when needed and it is very useful. Bud Feder supervised me when i was creating and started to lead these trainings. He was a student of Laura Perls and co-founder of AAGT and a great human! \nMore on my website http://gestalt-awareness.com/en/ \n\n\n\n\n\n \n\n\n
URL:https://www.ganz.org.au/event/gestalt-social-change-webinar/
LOCATION:Online Event\, Australia
CATEGORIES:Community Meeting,International
END:VEVENT
BEGIN:VEVENT
DTSTART;TZID=Australia/Melbourne:20200311T180000
DTEND;TZID=Australia/Melbourne:20200429T200000
DTSTAMP:20200226T184241
CREATED:20200130T041639Z
LAST-MODIFIED:20200130T041639Z
UID:9549-1583949600-1588190400@www.ganz.org.au
SUMMARY:Writing for Wellbeing
DESCRIPTION:\n\n\nWith Barbara Churcher\, psychotherapist. \nLet’s take a little literary risk & weave a wordy path together (ability to spell not required). \nSharing stories through creative writing & journaling to open up & discover more about who we are. \nAt least 6 participants needed for the group to begin. \nEight weekly sessions beginning \nWednesday 11 March 2020\, East Melbourne. \n6 – 8pm (with a cuppa & a bikkie in the middle) \nTo request a more detailed description email: contact@barbarachurcher.com.au \n\n\n\n\n\n \n\n\n
URL:https://www.ganz.org.au/event/writing-for-wellbeing/
LOCATION:12 Wellington Parade\, East Melbourne 3002\, Australia
CATEGORIES:Workshop
ATTACH;FMTTYPE=image/jpeg:https://www.ganz.org.au/wp-content/uploads/2020/01/pen.jpg
ORGANIZER;CN="Barbara%20Churcher":MAILTO:contact@barbarachurcher.com.au
END:VEVENT
BEGIN:VEVENT
DTSTART;TZID=Australia/Melbourne:20200417T000000
DTEND;TZID=Australia/Melbourne:20200419T235959
DTSTAMP:20200226T184241
CREATED:20191124T092724Z
LAST-MODIFIED:20191124T092737Z
UID:9326-1587081600-1587340799@www.ganz.org.au
SUMMARY:Systemic Structural Family Constellation Training 2020
DESCRIPTION:\n\n\nSystemic Constellation is a method which\, if we are attentive and sensitive\, opens the door to the depths of the soul.\nThe course provides the participant with an experiential\, educational and theoretical background of systemic constellation work and blends it with the principles and\npractice of Gestalt therapy. \n2020 _ Systemic_Structural_Family Constellation Training Flyer \nCOURSE DATES\n17th Apr – 19th Apr 2020\n17th Jul – 19th Jul 2020\n18th Sep – 20th Sep 2020\n6th Nov – 8th Nov 2020 \n  \n\n\n\n\n\n\n\n
URL:https://www.ganz.org.au/event/systemic-structural-family-constellation-training-2020/
ORGANIZER;CN="Maria%20Dolenc":MAILTO:maria@mariadolenc.com.au
END:VEVENT
END:VCALENDAR