BEGIN:VCALENDAR
VERSION:2.0
PRODID:-//GANZ - ECPv6.15.20//NONSGML v1.0//EN
CALSCALE:GREGORIAN
METHOD:PUBLISH
X-WR-CALNAME:GANZ
X-ORIGINAL-URL:https://www.ganz.org.au
X-WR-CALDESC:Events for GANZ
REFRESH-INTERVAL;VALUE=DURATION:PT1H
X-Robots-Tag:noindex
X-PUBLISHED-TTL:PT1H
BEGIN:VTIMEZONE
TZID:Australia/Melbourne
BEGIN:STANDARD
TZOFFSETFROM:+1100
TZOFFSETTO:+1000
TZNAME:AEST
DTSTART:20230401T160000
END:STANDARD
BEGIN:DAYLIGHT
TZOFFSETFROM:+1000
TZOFFSETTO:+1100
TZNAME:AEDT
DTSTART:20230930T160000
END:DAYLIGHT
BEGIN:STANDARD
TZOFFSETFROM:+1100
TZOFFSETTO:+1000
TZNAME:AEST
DTSTART:20240406T160000
END:STANDARD
BEGIN:DAYLIGHT
TZOFFSETFROM:+1000
TZOFFSETTO:+1100
TZNAME:AEDT
DTSTART:20241005T160000
END:DAYLIGHT
BEGIN:STANDARD
TZOFFSETFROM:+1100
TZOFFSETTO:+1000
TZNAME:AEST
DTSTART:20250405T160000
END:STANDARD
BEGIN:DAYLIGHT
TZOFFSETFROM:+1000
TZOFFSETTO:+1100
TZNAME:AEDT
DTSTART:20251004T160000
END:DAYLIGHT
END:VTIMEZONE
BEGIN:VEVENT
DTSTART;TZID=Australia/Melbourne:20240327T173000
DTEND;TZID=Australia/Melbourne:20240327T200000
DTSTAMP:20260421T033008
CREATED:20231231T071500Z
LAST-MODIFIED:20240328T054438Z
UID:21624-1711560600-1711569600@www.ganz.org.au
SUMMARY:Webinar: A Breach of Trust - Working with Infidelity and Betrayal
DESCRIPTION:Wednesday\, March 27\, 2024. Infidelity and betrayal affects many families and relationships\, and presents in a myriad of ways\, from broken promises to full-blown affairs. The damage to relationships and individuals can be profound\, traumatic and lifelong. For therapist\, working with infidelity and betrayal in clinical settings can be complicated. Often adding a degree of confusion in knowing where to start and how to best to support clients. This presentation\, with a focus on Couples Therapy\, will provide a snapshot and overview that will add insight to your work with clients from a Gestalt psychotherapeutic approach. It will be of benefit to practitioners working with individuals\, couples or families. The presentation will offer opportunities for group discussions. Sharing techniques and interventions that attendees use\, in their work towards supporting relationship repair and healing. \n\n\n\nThis presentation will benefit you in: \n\n\n\n• Understanding the contemporary therapeutic thinking around Infidelity & Betrayal \n\n\n\n• Providing an overview of recovery from relationship ‘crisis to renewal’ through a therapeutic process \n\n\n\n• The importance of working with trust and forgiveness. \n\n\n\n• Considering what meaningful & effective intervention will be of best support for your clients \n\n\n\n• Opportunities to reflect on and avoid common issues that hinder a therapeutic process. \n\n\n\nAbout your Presenter: \n\n\n\n\n\n\n\nSean Tonnet (MGest) has been working with people for over 30 years and as a full time clinical psychotherapist\, clinical supervisor and international facilitator for the past 17 years. His reputed and respected practice reflects his comprehensive training and clinical excellence in therapy and facilitation. Specialising in relationships\, Sean has over 16\,000 case hours working with couples and exceptional experience in workshop development and delivery. He melds creative\, relational Gestalt methods and contemporary psychotherapy\, neurobiology and mindfulness practices within a safe and learning environment. His work has been reviewed in radio\, television and in print. Recently\, Sean’s work with international band Parkway Drive\, was a feature of the ABC Australia Story “Getting Heavy”. Sean is a highly sought after therapist and facilitator across Australia. \n\n\n\nCost: \n\n\n\nGANZ Members: $45. Non-GANZ Members: $95 \n\n\n\nPurchase your ticket here!
URL:https://www.ganz.org.au/event/webinar-a-breach-of-trust-working-with-infidelity-and-betrayal/
END:VEVENT
END:VCALENDAR